BEGIN:VCALENDAR
VERSION:2.0
PRODID:-//jEvents 2.0 for Joomla//EN
CALSCALE:GREGORIAN
METHOD:PUBLISH
BEGIN:VEVENT
UID:160e769a6311b1263a26b8795a15e6ae
CATEGORIES:Clubfahrten
CREATED:20260118T165722
SUMMARY:Messinghausen
LOCATION:   (https://www.see-im-berg.de) See im Berg
DESCRIPTION:<p> </p><p> </p>
CONTACT:Kai
DTSTAMP:20260420T113046
DTSTART;VALUE=DATE:20261114
DTEND;VALUE=DATE:20261116
SEQUENCE:0
TRANSP:OPAQUE
END:VEVENT
END:VCALENDAR